BEGIN:VCALENDAR
VERSION:2.0
PRODID:-//hacksw/handcal//NONSGML v1.0//EN
CALSCALE:GREGORIAN
BEGIN:VEVENT
DTSTART:20260506T170000Z
DTEND:20260506T180000Z
SUMMARY:Middle School Spring Concert
DESCRIPTION:
DTSTAMP:20260423T051641Z
UID:69e9e37940cd7
END:VEVENT
END:VCALENDAR