BEGIN:VCALENDAR
VERSION:2.0
PRODID:-//hacksw/handcal//NONSGML v1.0//EN
CALSCALE:GREGORIAN
BEGIN:VEVENT
DTSTART:20260428T040000Z
DTEND:20260503T035959Z
SUMMARY:Carnival
DESCRIPTION:

DTSTAMP:20260423T051641Z
UID:69e9e3794096f
END:VEVENT
END:VCALENDAR